BEGIN:VCALENDAR
VERSION:2.0
PRODID:-//Centre Information Jeunesse 77 - ECPv6.15.20//NONSGML v1.0//EN
CALSCALE:GREGORIAN
METHOD:PUBLISH
X-ORIGINAL-URL:https://cij77.asso.fr
X-WR-CALDESC:Évènements pour Centre Information Jeunesse 77
REFRESH-INTERVAL;VALUE=DURATION:PT1H
X-Robots-Tag:noindex
X-PUBLISHED-TTL:PT1H
BEGIN:VTIMEZONE
TZID:Europe/Paris
BEGIN:DAYLIGHT
TZOFFSETFROM:+0100
TZOFFSETTO:+0200
TZNAME:CEST
DTSTART:20240331T010000
END:DAYLIGHT
BEGIN:STANDARD
TZOFFSETFROM:+0200
TZOFFSETTO:+0100
TZNAME:CET
DTSTART:20241027T010000
END:STANDARD
BEGIN:DAYLIGHT
TZOFFSETFROM:+0100
TZOFFSETTO:+0200
TZNAME:CEST
DTSTART:20250330T010000
END:DAYLIGHT
BEGIN:STANDARD
TZOFFSETFROM:+0200
TZOFFSETTO:+0100
TZNAME:CET
DTSTART:20251026T010000
END:STANDARD
BEGIN:DAYLIGHT
TZOFFSETFROM:+0100
TZOFFSETTO:+0200
TZNAME:CEST
DTSTART:20260329T010000
END:DAYLIGHT
BEGIN:STANDARD
TZOFFSETFROM:+0200
TZOFFSETTO:+0100
TZNAME:CET
DTSTART:20261025T010000
END:STANDARD
BEGIN:DAYLIGHT
TZOFFSETFROM:+0100
TZOFFSETTO:+0200
TZNAME:CEST
DTSTART:20270328T010000
END:DAYLIGHT
BEGIN:STANDARD
TZOFFSETFROM:+0200
TZOFFSETTO:+0100
TZNAME:CET
DTSTART:20271031T010000
END:STANDARD
END:VTIMEZONE
BEGIN:VEVENT
DTSTART;TZID=Europe/Paris:20251211T090000
DTEND;TZID=Europe/Paris:20260102T173000
DTSTAMP:20260419T154756
CREATED:20251112T114413Z
LAST-MODIFIED:20251210T200057Z
UID:20000112-1765443600-1767375000@cij77.asso.fr
SUMMARY:A fond les manettes\, mode prévention activé !
DESCRIPTION:A fond les manettes\, mode prévention activé !\n			\n			\n				\n				\n				\n				\n			\n				\n				\n				\n				\n				\n				\n				\n				\n				\n				\n				\n			\n				\n				\n				\n				\n				Le réseau Info Jeunes de Seine-et-Marne et le CIDJ avec le soutien du Fond de Lutte contre les Addictions (Site)\, organisent une journée départementale de prévention autour des usages numériques « A fond les manettes\, mode prévention activé »  à destination des collégiens et lycéens de Seine-et-Marne. \n📅 jeudi 11 décembre 2025📍 Complexe Jacques Marinelli\, 2 rue Doré – 77000 Melun🕘 de 9h00 à 16h30  \n			\n				\n				\n				\n				\n				Non aux addictions ! Oui à ma santé\nUn programme du CIDJ et du réseau Info Jeunes en région\, soutenu par le fonds de lutte contre les addictions (Site) \n			\n			\n				\n				\n				\n				\n			\n				\n				\n			\n				\n				\n				\n				\n				\n				\n				\n				\n				\n				\n				\n				\n				\n				\n				\n				\n				\n				Cet évènement met en lumière les opportunités socio-professionnelles du numérique (découverte métiers\, place des femmes dans la tech\, information\, apprentissage…) tout en alertant sur les risques d’usage (cyberharcèlement\, protection des données\, identité numérique…). De nouveaux espaces dédiés à la création numérique\, à la compréhension de l’intelligence artificielle viennent compléter le programme. \n AU PROGRAMME\n\n\nLes participants pourront profiter de nombreuses animations ludiques et pédagogiques sur des thématiques variées : \n\nIntelligence artificielle et création numérique\nProtection des données et citoyenneté numérique\nPrévention du cyberharcèlement\nJeux d’argent et de hasard\nDécouverte des métiers liés au numérique\n\n… et bien d’autres encore ! \nGratuit – Transport pris en charge par le CIJ77 (bus affrétés selon le nombre d’élèves) \nPour plus d’informations\, contactez nous via accueil@cij77.asso.fr ou 06 87 44 47 08
URL:https://cij77.asso.fr/event/a-fond-les-manettes-mode-prevention-active/
LOCATION:Complexe sportif Jacques Marinelli\, 2 Rue Doré\, 77000 Melun\, Melun\, 77000\, France
CATEGORIES:ATELIERS,EVENEMENTS
ORGANIZER;CN="CIJ77":MAILTO:olivia.pitra-puertas@cij77.asso.fr
END:VEVENT
BEGIN:VEVENT
DTSTART;TZID=Europe/Paris:20251120T090000
DTEND;TZID=Europe/Paris:20251120T163000
DTSTAMP:20260419T154756
CREATED:20230928T123945Z
LAST-MODIFIED:20251107T150800Z
UID:20000008-1763629200-1763656200@cij77.asso.fr
SUMMARY:Colloque départemental de l’Information Jeunesse de Seine-et-Marne
DESCRIPTION:Colloque départemental de l’Information Jeunesse de Seine-et-Marne\n			\n			\n				\n				\n				\n				\n			\n				\n				\n				\n				\n				\n				\n				\n				\n				\n				\n				Le Service départemental à la jeunesse\, à l’engagement et aux sports et le Centre d’Information Jeunesse de Seine-et-Marne (CIJ77)  vous invitent au premier Colloque départemental de l’Information Jeunesse\, qui se tiendra : \n📅 jeudi 20 novembre 2025📍 UTEC Emerainville – Boulevard Olof Palme – 77186 Emerainville🕘 de 9h30 à 16h30 \n			\n			\n				\n				\n				\n				\n				\n				\n				\n				\n				\n				\n			\n			\n				\n				\n				\n				\n			\n				\n				\n			\n				\n				\n				\n				\n				\n				\n				\n				\n				\n				\n				\n				\n				\n				\n				\n				\n				\n				Ce temps fort réunira les acteurs éducatifs\, les collectivités\, les associations\, les institutions et les professionnels de la jeunesse autour d’un objectif commun : Comment favoriser un accès égal et de qualité à l’information pour tous les jeunes du territoire ? \n AU PROGRAMME\n\n\nDes tables rondes et témoignages sur les enjeux actuels de l’information jeunesse ;\nDes espaces inspirants pour partager pratiques\, projets et ressources ;\nDes temps d’échanges pour renforcer les coopérations entre acteurs du territoire.\n\nEn effet\, l’Information Jeunesse est un partenaire essentiel des établissements scolaires : elle permet de proposer tout au long de l’année de nombreuses actions dans les collèges et lycées\, en complément de l’action des équipes éducatives\, sur des thématiques riches et variées telles que la découverte des métiers\, la citoyenneté\, la santé mentale\, l’engagement\, le décryptage de l’information et des fake news ou encore la mobilité internationale. \n👉 Inscription gratuite mais obligatoire avant le 17 novembre 2025 \n			\n				S'inscrire au Colloque IJ
URL:https://cij77.asso.fr/event/colloque-departemental-de-linformation-jeunesse-de-seine-et-marne/
LOCATION:UTEC Émerainville\, boulevard Olof Palme – 77184 Émerainville
CATEGORIES:ATELIERS,EVENEMENTS
ORGANIZER;CN="CIJ77":MAILTO:olivia.pitra-puertas@cij77.asso.fr
END:VEVENT
BEGIN:VEVENT
DTSTART;TZID=Europe/Paris:20251027T143000
DTEND;TZID=Europe/Paris:20251027T160000
DTSTAMP:20260419T154756
CREATED:20251008T133949Z
LAST-MODIFIED:20251107T130206Z
UID:20000111-1761575400-1761580800@cij77.asso.fr
SUMMARY:Salariés\, adultes en recherche d’emploi : des ateliers pour clarifier votre projet professionnel
DESCRIPTION:Le CIJ77 propose des ateliers pratiques pour les salariés et les personnes en recherche d’emploi. Ces temps d’échange de 2 heures\, gratuits et accessibles à tous\, permettent de mieux se connaître\, d’identifier ses atouts et de clarifier son projet professionnel.\nIls constituent une première étape\, avant d’éventuels accompagnements plus approfondis avec nos partenaires (France Travail\, APEC\, Avenir Actifs…). \nNos ateliers\n🔎 InforizonVous ne savez pas par où commencer ? Inforizon vous aide à explorer vos centres d’intérêt\, vos envies et à ouvrir le champ des possibles pour votre avenir professionnel. \n📌 Pass’AvenirVous avez déjà des contraintes à prendre en compte (mobilité\, rythme de travail\, conditions particulières) ? Pass’Avenir vous permet de construire un projet réaliste en intégrant vos impératifs personnels et professionnels. \n💡 TransférenceVous souhaitez valoriser vos compétences et réfléchir à ce que vous pouvez transférer vers un autre métier ou secteur ? Transférence vous aide à identifier et mettre en avant vos savoir-faire. \nInformations pratiques\n⏱️ Durée : 2 heures\n💰 Tarif : Gratuit\n📍 Lieu : CIJ77\n👥 Public : salariés\, demandeurs d’emploi\, personnes en transition professionnelle\, adultes en situation de handicap \n👉 Ces ateliers sont animés par des professionnels de l’orientation et constituent une porte d’entrée personnalisée vers votre futur parcours d’accompagnement. \n			\n				Inscription ici
URL:https://cij77.asso.fr/event/salaries-adultes-en-recherche-demploi-des-ateliers-pour-clarifier-votre-projet-professionnel-2/
LOCATION:CENTRE INFORMATION JEUNESSE SEINE ET MARNE\, 6 bis Quai de la Courtille\, Melun\, 77000
CATEGORIES:ATELIERS
ORGANIZER;CN="CIJ77":MAILTO:olivia.pitra-puertas@cij77.asso.fr
END:VEVENT
BEGIN:VEVENT
DTSTART;TZID=Europe/Paris:20251013T143000
DTEND;TZID=Europe/Paris:20251013T163000
DTSTAMP:20260419T154756
CREATED:20250926T124909Z
LAST-MODIFIED:20251008T134055Z
UID:20000110-1760365800-1760373000@cij77.asso.fr
SUMMARY:Salariés\, adultes en recherche d’emploi : des ateliers pour clarifier votre projet professionnel
DESCRIPTION:Le CIJ77 propose des ateliers pratiques pour les salariés et les personnes en recherche d’emploi. Ces temps d’échange de 2 heures\, gratuits et accessibles à tous\, permettent de mieux se connaître\, d’identifier ses atouts et de clarifier son projet professionnel.Ils constituent une première étape\, avant d’éventuels accompagnements plus approfondis avec nos partenaires (France Travail\, APEC\, Avenir Actifs…). \nNos ateliers\n🔎 InforizonVous ne savez pas par où commencer ? Inforizon vous aide à explorer vos centres d’intérêt\, vos envies et à ouvrir le champ des possibles pour votre avenir professionnel. \n📌 Pass’AvenirVous avez déjà des contraintes à prendre en compte (mobilité\, rythme de travail\, conditions particulières) ? Pass’Avenir vous permet de construire un projet réaliste en intégrant vos impératifs personnels et professionnels. \n💡 TransférenceVous souhaitez valoriser vos compétences et réfléchir à ce que vous pouvez transférer vers un autre métier ou secteur ? Transférence vous aide à identifier et mettre en avant vos savoir-faire. \nInformations pratiques\n⏱️ Durée : 2 heures💰 Tarif : Gratuit📍 Lieu : CIJ77👥 Public : salariés\, demandeurs d’emploi\, personnes en transition professionnelle\, adultes en situation de handicap \n👉 Ces ateliers sont animés par des professionnels de l’orientation et constituent une porte d’entrée personnalisée vers votre futur parcours d’accompagnement. \n \n			\n				Inscription ici
URL:https://cij77.asso.fr/event/salaries-adultes-en-recherche-demploi-des-ateliers-pour-clarifier-votre-projet-professionnel/
LOCATION:CENTRE INFORMATION JEUNESSE SEINE ET MARNE\, 6 bis Quai de la Courtille\, Melun\, 77000
CATEGORIES:ATELIERS
ORGANIZER;CN="CIJ77":MAILTO:olivia.pitra-puertas@cij77.asso.fr
END:VEVENT
END:VCALENDAR