BEGIN:VCALENDAR
VERSION:2.0
PRODID:-//Centre Information Jeunesse 77 - ECPv6.15.20//NONSGML v1.0//EN
CALSCALE:GREGORIAN
METHOD:PUBLISH
X-WR-CALNAME:Centre Information Jeunesse 77
X-ORIGINAL-URL:https://cij77.asso.fr
X-WR-CALDESC:Évènements pour Centre Information Jeunesse 77
REFRESH-INTERVAL;VALUE=DURATION:PT1H
X-Robots-Tag:noindex
X-PUBLISHED-TTL:PT1H
BEGIN:VTIMEZONE
TZID:Europe/Paris
BEGIN:DAYLIGHT
TZOFFSETFROM:+0100
TZOFFSETTO:+0200
TZNAME:CEST
DTSTART:20250330T010000
END:DAYLIGHT
BEGIN:STANDARD
TZOFFSETFROM:+0200
TZOFFSETTO:+0100
TZNAME:CET
DTSTART:20251026T010000
END:STANDARD
BEGIN:DAYLIGHT
TZOFFSETFROM:+0100
TZOFFSETTO:+0200
TZNAME:CEST
DTSTART:20260329T010000
END:DAYLIGHT
BEGIN:STANDARD
TZOFFSETFROM:+0200
TZOFFSETTO:+0100
TZNAME:CET
DTSTART:20261025T010000
END:STANDARD
BEGIN:DAYLIGHT
TZOFFSETFROM:+0100
TZOFFSETTO:+0200
TZNAME:CEST
DTSTART:20270328T010000
END:DAYLIGHT
BEGIN:STANDARD
TZOFFSETFROM:+0200
TZOFFSETTO:+0100
TZNAME:CET
DTSTART:20271031T010000
END:STANDARD
END:VTIMEZONE
BEGIN:VEVENT
DTSTART;TZID=Europe/Paris:20260422T133000
DTEND;TZID=Europe/Paris:20260422T173000
DTSTAMP:20260422T123312
CREATED:20260421T104413Z
LAST-MODIFIED:20260421T143720Z
UID:20000112-1776864600-1776879000@cij77.asso.fr
SUMMARY:Événement Promeneurs du Net – NextFluence
DESCRIPTION: NextFluence\n			\n			\n				\n				\n				\n				\n			\n				\n				\n				\n				\n				\n				\n				\n				\n				\n				\n				Les Promeneurs du Net vous invitent à participer à l’événement NextFluence\, un après-midi dédié aux collégiens\, lycéens et étudiants pour explorer les réseaux sociaux\, découvrir les métiers du digital et s’informer sur les bonnes pratiques en ligne. \n📅 mercredi 22 avril 2026📍 Complexe Sportif de Lilandry – Bailly-Romainvilliers🕒 de 13h30 à 17h30 \n			\n			\n				\n				\n				\n				\n				\n				\n				\n				\n				\n				\n			\n			\n				\n				\n				\n				\n			\n				\n				\n			\n				\n				\n				\n				\n				\n				\n				\n				\n				\n				\n				\n				\n				\n				\n				\n				\n				\n				 AU PROGRAMME\n\n\nAteliers de sensibilisation à la prévention numérique\nDécouverte des opportunités professionnelles du secteur\nParticipation à un jeu-concours vlog (sur inscription)
URL:https://cij77.asso.fr/event/evenement-promeneurs-du-net-nextfluence/
LOCATION:Complexe sportif Jacques Marinelli\, 2 Rue Doré\, 77000 Melun\, Melun\, 77000\, France
CATEGORIES:ATELIERS,EVENEMENTS
ORGANIZER;CN="CIJ77":MAILTO:olivia.pitra-puertas@cij77.asso.fr
END:VEVENT
END:VCALENDAR